BEGIN:VCALENDAR
VERSION:2.0
PRODID:-//Linköpings Segelsällskap - ECPv6.15.20//NONSGML v1.0//EN
CALSCALE:GREGORIAN
METHOD:PUBLISH
X-ORIGINAL-URL:https://linss.se
X-WR-CALDESC:Händelser för Linköpings Segelsällskap
REFRESH-INTERVAL;VALUE=DURATION:PT1H
X-Robots-Tag:noindex
X-PUBLISHED-TTL:PT1H
BEGIN:VTIMEZONE
TZID:Europe/Stockholm
BEGIN:DAYLIGHT
TZOFFSETFROM:+0100
TZOFFSETTO:+0200
TZNAME:CEST
DTSTART:20230326T010000
END:DAYLIGHT
BEGIN:STANDARD
TZOFFSETFROM:+0200
TZOFFSETTO:+0100
TZNAME:CET
DTSTART:20231029T010000
END:STANDARD
BEGIN:DAYLIGHT
TZOFFSETFROM:+0100
TZOFFSETTO:+0200
TZNAME:CEST
DTSTART:20240331T010000
END:DAYLIGHT
BEGIN:STANDARD
TZOFFSETFROM:+0200
TZOFFSETTO:+0100
TZNAME:CET
DTSTART:20241027T010000
END:STANDARD
BEGIN:DAYLIGHT
TZOFFSETFROM:+0100
TZOFFSETTO:+0200
TZNAME:CEST
DTSTART:20250330T010000
END:DAYLIGHT
BEGIN:STANDARD
TZOFFSETFROM:+0200
TZOFFSETTO:+0100
TZNAME:CET
DTSTART:20251026T010000
END:STANDARD
END:VTIMEZONE
BEGIN:VEVENT
DTSTART;TZID=Europe/Stockholm:20240321T183000
DTEND;TZID=Europe/Stockholm:20240321T203000
DTSTAMP:20260423T111550
CREATED:20240208T145241Z
LAST-MODIFIED:20240208T151929Z
UID:2353-1711045800-1711053000@linss.se
SUMMARY:Medlemskväll Splitsa rep
DESCRIPTION:En grupp av klubbens bästa splitsare visar och tränar er på kortplits\, långsplits\, segelmakarsplits och splitsning av fall (flätad lina med hölje). \nPå uppdrag av seglingssektionen ska vi under kvällen också producera ett antal linor till klubbens rundningsmärken. Det är lämpligt att ni tar med egna verktyg. Vi serverar ärtsoppa och pannkakor\, så anmäl er gärna med hjälp av det här formuläret . \nKultursektionen
URL:https://linss.se/event/medlemskvall-splitsa-rep/
ATTACH;FMTTYPE=image/jpeg:https://linss.se/wp-content/uploads/2023/03/walker.jpg
END:VEVENT
END:VCALENDAR