BEGIN:VCALENDAR
VERSION:2.0
PRODID:-//Linköpings Segelsällskap - ECPv6.15.20//NONSGML v1.0//EN
CALSCALE:GREGORIAN
METHOD:PUBLISH
X-WR-CALNAME:Linköpings Segelsällskap
X-ORIGINAL-URL:https://linss.se
X-WR-CALDESC:Händelser för Linköpings Segelsällskap
REFRESH-INTERVAL;VALUE=DURATION:PT1H
X-Robots-Tag:noindex
X-PUBLISHED-TTL:PT1H
BEGIN:VTIMEZONE
TZID:Europe/Stockholm
BEGIN:DAYLIGHT
TZOFFSETFROM:+0100
TZOFFSETTO:+0200
TZNAME:CEST
DTSTART:20230326T010000
END:DAYLIGHT
BEGIN:STANDARD
TZOFFSETFROM:+0200
TZOFFSETTO:+0100
TZNAME:CET
DTSTART:20231029T010000
END:STANDARD
BEGIN:DAYLIGHT
TZOFFSETFROM:+0100
TZOFFSETTO:+0200
TZNAME:CEST
DTSTART:20240331T010000
END:DAYLIGHT
BEGIN:STANDARD
TZOFFSETFROM:+0200
TZOFFSETTO:+0100
TZNAME:CET
DTSTART:20241027T010000
END:STANDARD
BEGIN:DAYLIGHT
TZOFFSETFROM:+0100
TZOFFSETTO:+0200
TZNAME:CEST
DTSTART:20250330T010000
END:DAYLIGHT
BEGIN:STANDARD
TZOFFSETFROM:+0200
TZOFFSETTO:+0100
TZNAME:CET
DTSTART:20251026T010000
END:STANDARD
END:VTIMEZONE
BEGIN:VEVENT
DTSTART;TZID=Europe/Stockholm:20241017T190000
DTEND;TZID=Europe/Stockholm:20241017T210000
DTSTAMP:20260423T210254
CREATED:20241014T102837Z
LAST-MODIFIED:20241014T102837Z
UID:2609-1729191600-1729198800@linss.se
SUMMARY:Introduktion till e-Segling
DESCRIPTION:Välkommen till en introduktionskväll om e-Segling
URL:https://linss.se/event/introduktion-till-e-segling/
LOCATION:Klubbhuset\, Norra Oskarsgatan 51\, Linköping\, 58275\, Sverige
ATTACH;FMTTYPE=image/png:https://linss.se/wp-content/uploads/2023/04/Screenshot-2020-06-19-16.36.33-840x560-1.png
ORGANIZER;CN="Seglingssektionen":MAILTO:seglingssektionen@linss.se
END:VEVENT
END:VCALENDAR