BEGIN:VCALENDAR
VERSION:2.0
PRODID:-//Linköpings Segelsällskap - ECPv6.15.20//NONSGML v1.0//EN
CALSCALE:GREGORIAN
METHOD:PUBLISH
X-ORIGINAL-URL:https://linss.se
X-WR-CALDESC:Händelser för Linköpings Segelsällskap
REFRESH-INTERVAL;VALUE=DURATION:PT1H
X-Robots-Tag:noindex
X-PUBLISHED-TTL:PT1H
BEGIN:VTIMEZONE
TZID:Europe/Stockholm
BEGIN:DAYLIGHT
TZOFFSETFROM:+0100
TZOFFSETTO:+0200
TZNAME:CEST
DTSTART:20230326T010000
END:DAYLIGHT
BEGIN:STANDARD
TZOFFSETFROM:+0200
TZOFFSETTO:+0100
TZNAME:CET
DTSTART:20231029T010000
END:STANDARD
BEGIN:DAYLIGHT
TZOFFSETFROM:+0100
TZOFFSETTO:+0200
TZNAME:CEST
DTSTART:20240331T010000
END:DAYLIGHT
BEGIN:STANDARD
TZOFFSETFROM:+0200
TZOFFSETTO:+0100
TZNAME:CET
DTSTART:20241027T010000
END:STANDARD
BEGIN:DAYLIGHT
TZOFFSETFROM:+0100
TZOFFSETTO:+0200
TZNAME:CEST
DTSTART:20250330T010000
END:DAYLIGHT
BEGIN:STANDARD
TZOFFSETFROM:+0200
TZOFFSETTO:+0100
TZNAME:CET
DTSTART:20251026T010000
END:STANDARD
END:VTIMEZONE
BEGIN:VEVENT
DTSTART;TZID=Europe/Stockholm:20241210T160000
DTEND;TZID=Europe/Stockholm:20241210T210000
DTSTAMP:20260424T085537
CREATED:20241110T220643Z
LAST-MODIFIED:20251102T173755Z
UID:2702-1733846400-1733864400@linss.se
SUMMARY:Ljusstöpning i klubbhuset
DESCRIPTION:LSS Kulturkommitte´ presenterar\, lite stolt\, en kväll med\nLjusstöpning i klubbhuset!\n\nJulen närmar sig med stormsteg och om Ni har tänkt att förgylla\nårets julbord med utsmyckning i form av egenhändigt stöpta ljus\nmen ännu inte hunnit med har Ni nu chansen!\n\nNi inbjuds till en ljusstöparkväll tisdagen den 10 december\nVi startar lite försiktigt vid 16-tiden med anmälda som kan komma\nifrån lite tidigare och övriga ansluter senare när de kunnat komma\nifrån övriga engagemang.\nKapaciteten i den anläggning vi riggar upp är ca 140 ljus och\nstöpningen tar 4-5 timmar. Resultatet kommer att bli långa fina\nstöpta ljus som brinner fint och pryder vilket bord som helst.\nEfter att vi är klara delar vi på ljusen\, kostnaden för ljusmassan vi\nförbrukat samt fikat vi förtärt.\n\nVi tar emot max 10 deltagare och först till kvarn gäller! Anmälan\nmed namn och telefonnr till Kursanmalan@linss.se. Ange att det\när ljusstöpningskvällen du vill komma på.\nFrågor? Ring Berndt Bock på tfn 070-3953023\nVälkomna!
URL:https://linss.se/event/ljusstopning-i-klubbhuset/
LOCATION:Klubbhuset\, Norra Oskarsgatan 51\, Linköping\, 58275\, Sverige
ATTACH;FMTTYPE=image/jpeg:https://linss.se/wp-content/uploads/2024/11/ljus.jpg
ORGANIZER;CN="Kultursektionen":MAILTO:kultursektionen@linss.se
END:VEVENT
END:VCALENDAR