BEGIN:VCALENDAR
VERSION:2.0
PRODID:-//Linköpings Segelsällskap - ECPv6.15.20//NONSGML v1.0//EN
CALSCALE:GREGORIAN
METHOD:PUBLISH
X-WR-CALNAME:Linköpings Segelsällskap
X-ORIGINAL-URL:https://linss.se
X-WR-CALDESC:Händelser för Linköpings Segelsällskap
REFRESH-INTERVAL;VALUE=DURATION:PT1H
X-Robots-Tag:noindex
X-PUBLISHED-TTL:PT1H
BEGIN:VTIMEZONE
TZID:Europe/Stockholm
BEGIN:DAYLIGHT
TZOFFSETFROM:+0100
TZOFFSETTO:+0200
TZNAME:CEST
DTSTART:20240331T010000
END:DAYLIGHT
BEGIN:STANDARD
TZOFFSETFROM:+0200
TZOFFSETTO:+0100
TZNAME:CET
DTSTART:20241027T010000
END:STANDARD
BEGIN:DAYLIGHT
TZOFFSETFROM:+0100
TZOFFSETTO:+0200
TZNAME:CEST
DTSTART:20250330T010000
END:DAYLIGHT
BEGIN:STANDARD
TZOFFSETFROM:+0200
TZOFFSETTO:+0100
TZNAME:CET
DTSTART:20251026T010000
END:STANDARD
BEGIN:DAYLIGHT
TZOFFSETFROM:+0100
TZOFFSETTO:+0200
TZNAME:CEST
DTSTART:20260329T010000
END:DAYLIGHT
BEGIN:STANDARD
TZOFFSETFROM:+0200
TZOFFSETTO:+0100
TZNAME:CET
DTSTART:20261025T010000
END:STANDARD
END:VTIMEZONE
BEGIN:VEVENT
DTSTART;TZID=Europe/Stockholm:20251120T190000
DTEND;TZID=Europe/Stockholm:20251120T210000
DTSTAMP:20260425T152211
CREATED:20251116T174635Z
LAST-MODIFIED:20251209T175345Z
UID:3482-1763665200-1763672400@linss.se
SUMMARY:KM e-segling 2025
DESCRIPTION:Den 20 november är det dags för klubbmästerskap i e-segling! \n\n\n\nÄr du nyfiken på e-segling så har vi introduktion kvällen innan\, läs mer här. \n\n\n\nHäng med! \n\n\n\nInbjudan och anmälan till KM hittar du på Sailarena \n\n\n\nGrattis Sara! Klubbmästare i e-Segling 2025\n\n\n\nSara Granberg seglade eminent i alla delseglingarna under LSS KM i e-Segling som avgjordes 20 November. Ett stort grattis till Sara!!  För fullständigt resultat se Seglingsresultat – 2025 – E-Segling
URL:https://linss.se/event/km-e-segling-2025/
END:VEVENT
END:VCALENDAR