BEGIN:VCALENDAR
VERSION:2.0
PRODID:-//Linköpings Segelsällskap - ECPv6.15.20//NONSGML v1.0//EN
CALSCALE:GREGORIAN
METHOD:PUBLISH
X-ORIGINAL-URL:https://linss.se
X-WR-CALDESC:Händelser för Linköpings Segelsällskap
REFRESH-INTERVAL;VALUE=DURATION:PT1H
X-Robots-Tag:noindex
X-PUBLISHED-TTL:PT1H
BEGIN:VTIMEZONE
TZID:Europe/Stockholm
BEGIN:DAYLIGHT
TZOFFSETFROM:+0100
TZOFFSETTO:+0200
TZNAME:CEST
DTSTART:20240331T010000
END:DAYLIGHT
BEGIN:STANDARD
TZOFFSETFROM:+0200
TZOFFSETTO:+0100
TZNAME:CET
DTSTART:20241027T010000
END:STANDARD
BEGIN:DAYLIGHT
TZOFFSETFROM:+0100
TZOFFSETTO:+0200
TZNAME:CEST
DTSTART:20250330T010000
END:DAYLIGHT
BEGIN:STANDARD
TZOFFSETFROM:+0200
TZOFFSETTO:+0100
TZNAME:CET
DTSTART:20251026T010000
END:STANDARD
BEGIN:DAYLIGHT
TZOFFSETFROM:+0100
TZOFFSETTO:+0200
TZNAME:CEST
DTSTART:20260329T010000
END:DAYLIGHT
BEGIN:STANDARD
TZOFFSETFROM:+0200
TZOFFSETTO:+0100
TZNAME:CET
DTSTART:20261025T010000
END:STANDARD
END:VTIMEZONE
BEGIN:VEVENT
DTSTART;TZID=Europe/Stockholm:20251206T100000
DTEND;TZID=Europe/Stockholm:20251206T130000
DTSTAMP:20260425T170247
CREATED:20251130T224937Z
LAST-MODIFIED:20251130T230550Z
UID:3535-1765015200-1765026000@linss.se
SUMMARY:Östergötlands Båtförbund + gästföreläsare
DESCRIPTION:Påminnelse till er som ännu inte anmält er till ert förbundsråd.  \n\n\n\nVi hoppas att ni har intresse av att träffa oss i ÖBF\,s styrelse och ta del av vad vi gör och vad vi kan göra för Er båtklubb. Samtidigt får ni tillfälle att träffa kolleger från andra klubbar och utbyta erfarenheter och prata framtid om båtlivet. Många klubbar brottas med problemet att få medlemmarna intresserade av vad och hur styrelsen arbetar. Hur ska vi göra för att skapa delaktighet bland medlemmarna. Hur ska vi göra för att få de intresserade av klubbarbete? Ta med er era erfarenheter om hur ni arbetar i er klubb. Hur arbetar ni i er styrelse? Hur kan förbundet hjälpa? \n\n\n\nInbjudan till Förbundsråd/Båtklubbsdag 2025 \n\n\n\nHärmed inbjuds klubbfunktionärer och intresserade medlemmar till \n\n\n\n Östergötlands Båtförbunds Förbundsråd/Båtklubbsdag 2025 \n\n\n\n Tid                           Lördagen den 6 december 2024 kl. 10:00 – 13:00 \n\n\n\n                                 Mötet inleds med fika kl. 9:45 och avslutas med lunch kl. 13:00 \n\n\n\n Plats                         LSS Klubblokal i Linköping \n\n\n\n Program     Här \n\n\n\n \n\n\n\n Anmälan senast onsdag den 27 november 2024 \n\n\n\nAnmälan görs nedan genom att fylla i formuläret.          \n\n\n\nVid frågor kontakta ÖBF via kansli@batforbundet.se eller ordforande@batforbundet.se   \n\n\n\nSvar behöver vara ÖBF tillhanda senast den 30 november 2025.                                                                                       \n\n\n\nÅrsmöteshandlingar kommer skickas ut digitalt under vecka 48. \n\n\n\nAnmälan är bindande. Klubben debiteras vid utebliven närvaro. \n\n\n\n Förbundsrådet är avgiftsfritt. Reseersättning svarar delegatens klubb för. \n\n\n\nEventuella matallergier meddelas vid anmälan. \n\n\n\n Gästföreläsare:  Jesper Sanell Från Hydrographica VD\, Kartograf och sjömätare  \n\n\n\nHoppas att vi ses. \n\n\n\nVälkomna \n\n\n\nStyrelsen Östergötlands Båtförbund \n\n\n\nÅse Skrubbeltrang \n\n\n\nSekreterare i ÖBF \n\n\n\nÖBF kansli E-post: kansli@batforbundet.se \n\n\n\nÖSTERGÖTLANDS BÅTFÖRBUND \n\n\n\nAnslutet till SBU
URL:https://linss.se/event/ostergotlands-batforbund-gastforelasare/
LOCATION:Klubbhuset\, Norra Oskarsgatan 51\, Linköping\, 58275\, Sverige
ATTACH;FMTTYPE=image/png:https://linss.se/wp-content/uploads/2025/11/logga_obf.png
END:VEVENT
END:VCALENDAR