BEGIN:VCALENDAR
VERSION:2.0
PRODID:-//Linköpings Segelsällskap - ECPv6.15.20//NONSGML v1.0//EN
CALSCALE:GREGORIAN
METHOD:PUBLISH
X-ORIGINAL-URL:https://linss.se
X-WR-CALDESC:Händelser för Linköpings Segelsällskap
REFRESH-INTERVAL;VALUE=DURATION:PT1H
X-Robots-Tag:noindex
X-PUBLISHED-TTL:PT1H
BEGIN:VTIMEZONE
TZID:Europe/Stockholm
BEGIN:DAYLIGHT
TZOFFSETFROM:+0100
TZOFFSETTO:+0200
TZNAME:CEST
DTSTART:20250330T010000
END:DAYLIGHT
BEGIN:STANDARD
TZOFFSETFROM:+0200
TZOFFSETTO:+0100
TZNAME:CET
DTSTART:20251026T010000
END:STANDARD
BEGIN:DAYLIGHT
TZOFFSETFROM:+0100
TZOFFSETTO:+0200
TZNAME:CEST
DTSTART:20260329T010000
END:DAYLIGHT
BEGIN:STANDARD
TZOFFSETFROM:+0200
TZOFFSETTO:+0100
TZNAME:CET
DTSTART:20261025T010000
END:STANDARD
BEGIN:DAYLIGHT
TZOFFSETFROM:+0100
TZOFFSETTO:+0200
TZNAME:CEST
DTSTART:20270328T010000
END:DAYLIGHT
BEGIN:STANDARD
TZOFFSETFROM:+0200
TZOFFSETTO:+0100
TZNAME:CET
DTSTART:20271031T010000
END:STANDARD
END:VTIMEZONE
BEGIN:VEVENT
DTSTART;TZID=Europe/Stockholm:20260329T160000
DTEND;TZID=Europe/Stockholm:20260329T180000
DTSTAMP:20260423T142022
CREATED:20260125T205053Z
LAST-MODIFIED:20260125T205211Z
UID:3727-1774800000-1774807200@linss.se
SUMMARY:Digital examination / provtillfälle
DESCRIPTION:Detta tillfälle kan du examineras för NFB intyg (OBS! Du ska ha anmält dig till NFB innan. Se hur man gör här.) \n\n\n\n\n\n\n\n\n  \n\n\n\nAnmälan till Provtillfälle 2026-03-26\n\nAnvänd formuläret nedan för att anmäla dig till provtillfälle 2026-03-29\n \nDitt namn*\n\n \nDin epost*\n\n \nDin mobil*\n\n \nDin klubb*\nLSS (Linköpings Segelsällskap)SSR (Segelsällskapet Roxen)LMBK (Linköpings Motorbåtsklubb)Linköpings Jolleseglarklubb (LJS)\n \nÖvriga noteringar\n\n\n \nSkriv in följande bokstäver i rutan nedanför: \n \n\n \n\n Δ
URL:https://linss.se/event/digital-examination-provtillfalle/
LOCATION:Klubbhuset\, Norra Oskarsgatan 51\, Linköping\, 58275\, Sverige
ATTACH;FMTTYPE=image/jpeg:https://linss.se/wp-content/uploads/2025/11/Test_sign-scaled.jpg
ORGANIZER;CN="Kultursektionen":MAILTO:kultursektionen@linss.se
END:VEVENT
END:VCALENDAR