BEGIN:VCALENDAR
VERSION:2.0
PRODID:-//Linköpings Segelsällskap - ECPv6.15.20//NONSGML v1.0//EN
CALSCALE:GREGORIAN
METHOD:PUBLISH
X-WR-CALNAME:Linköpings Segelsällskap
X-ORIGINAL-URL:https://linss.se
X-WR-CALDESC:Händelser för Linköpings Segelsällskap
REFRESH-INTERVAL;VALUE=DURATION:PT1H
X-Robots-Tag:noindex
X-PUBLISHED-TTL:PT1H
BEGIN:VTIMEZONE
TZID:Europe/Stockholm
BEGIN:DAYLIGHT
TZOFFSETFROM:+0100
TZOFFSETTO:+0200
TZNAME:CEST
DTSTART:20230326T010000
END:DAYLIGHT
BEGIN:STANDARD
TZOFFSETFROM:+0200
TZOFFSETTO:+0100
TZNAME:CET
DTSTART:20231029T010000
END:STANDARD
BEGIN:DAYLIGHT
TZOFFSETFROM:+0100
TZOFFSETTO:+0200
TZNAME:CEST
DTSTART:20240331T010000
END:DAYLIGHT
BEGIN:STANDARD
TZOFFSETFROM:+0200
TZOFFSETTO:+0100
TZNAME:CET
DTSTART:20241027T010000
END:STANDARD
BEGIN:DAYLIGHT
TZOFFSETFROM:+0100
TZOFFSETTO:+0200
TZNAME:CEST
DTSTART:20250330T010000
END:DAYLIGHT
BEGIN:STANDARD
TZOFFSETFROM:+0200
TZOFFSETTO:+0100
TZNAME:CET
DTSTART:20251026T010000
END:STANDARD
BEGIN:DAYLIGHT
TZOFFSETFROM:+0100
TZOFFSETTO:+0200
TZNAME:CEST
DTSTART:20260329T010000
END:DAYLIGHT
BEGIN:STANDARD
TZOFFSETFROM:+0200
TZOFFSETTO:+0100
TZNAME:CET
DTSTART:20261025T010000
END:STANDARD
END:VTIMEZONE
BEGIN:VEVENT
DTSTART;TZID=Europe/Stockholm:20240404T183000
DTEND;TZID=Europe/Stockholm:20240404T203000
DTSTAMP:20260423T125717
CREATED:20240208T145606Z
LAST-MODIFIED:20240208T152005Z
UID:2355-1712255400-1712262600@linss.se
SUMMARY:Medlemskväll med Sjöräddningen
DESCRIPTION:Sjöräddningssällskapet i Vadstena/Motala (Sjöräddningens hemsida) berättar om sin verksamhet. \nVi serverar ärtsoppa och pannkakor\, så anmäl dig gärna i det här formuläret. \nKultursektionen
URL:https://linss.se/event/medlemskvall-med-sjoraddningen/
ATTACH;FMTTYPE=image/jpeg:https://linss.se/wp-content/uploads/2024/02/Sjoraddningsbat_Victoria.jpg
END:VEVENT
BEGIN:VEVENT
DTSTART;TZID=Europe/Stockholm:20240413T100000
DTEND;TZID=Europe/Stockholm:20240413T153000
DTSTAMP:20260423T125717
CREATED:20240304T164343Z
LAST-MODIFIED:20240304T164344Z
UID:2371-1713002400-1713022200@linss.se
SUMMARY:Rogalins Minne DF65 segling
DESCRIPTION:DF65 tävling till minne av Bo Rogalin. \nMer information hittar ni på SailArena
URL:https://linss.se/event/rogalins-minne-df65-segling/
LOCATION:Linköpings segelbåtshamn\, Norra Oskarsgatan 51\, Linköping\, 58275\, Sverige
ATTACH;FMTTYPE=image/jpeg:https://linss.se/wp-content/uploads/2024/03/DF65-start.jpg
ORGANIZER;CN="Seglingssektionen":MAILTO:seglingssektionen@linss.se
END:VEVENT
BEGIN:VEVENT
DTSTART;TZID=Europe/Stockholm:20240418T180000
DTEND;TZID=Europe/Stockholm:20240418T210000
DTSTAMP:20260423T125717
CREATED:20240409T125413Z
LAST-MODIFIED:20240409T125533Z
UID:2408-1713463200-1713474000@linss.se
SUMMARY:Spinnakerkurs
DESCRIPTION:Välkomna till en grundkurs i hantering av Spinnaker.\nTvå teoritillfällen\, den 18 och 23 April. Kl 18-21\, i klubbhuset
URL:https://linss.se/event/spinnakerkurs/
LOCATION:Klubbhuset\, Norra Oskarsgatan 51\, Linköping\, 58275\, Sverige
ATTACH;FMTTYPE=image/jpeg:https://linss.se/wp-content/uploads/2024/04/20181001_191157.jpg
END:VEVENT
BEGIN:VEVENT
DTSTART;VALUE=DATE:20240427
DTEND;VALUE=DATE:20240428
DTSTAMP:20260423T125717
CREATED:20240130T145626Z
LAST-MODIFIED:20240130T145626Z
UID:2321-1714176000-1714262399@linss.se
SUMMARY:Sjösättning 2024
DESCRIPTION:Äntligen är det dags för båtarna att få komma i vattnet igen! Sjösättningen i Linköpings segelbåtshamn sker den 27 april\, och det kommer att vara full aktivitet i hamnen. Båtarna sätts i både med hjälp av kranbil och via en ramp som ”glider” ner båtarna i vattnet. Åskådare är välkomna\, men var uppmärksamma på att hamnen inte är någon lekplats och att det är farliga maskiner i rörelse under dagen.\nPassa på att ta en promenad eller cykeltur längs de nyrenoverade kajerna vid Stångån\, och följ cykelbanan hela vägen ut till Roxen. Kaféet i klubbhuset är öppet 10-16. Välkommen!\n  \nInformation till båtägare kommer att skickas som mejl och även affischeras på dörren till klubbhuset.
URL:https://linss.se/event/sjosattning-2024/
LOCATION:Linköpings segelbåtshamn\, Norra Oskarsgatan 51\, Linköping\, 58275\, Sverige
ATTACH;FMTTYPE=image/jpeg:https://linss.se/wp-content/uploads/2023/03/sjosattning.jpg
END:VEVENT
BEGIN:VEVENT
DTSTART;TZID=Europe/Stockholm:20240512T130000
DTEND;TZID=Europe/Stockholm:20240512T170000
DTSTAMP:20260423T125717
CREATED:20240305T170318Z
LAST-MODIFIED:20240305T170318Z
UID:2377-1715518800-1715533200@linss.se
SUMMARY:Regelkurs för seglare
DESCRIPTION:Regelgenomgång med Tom Björkholm. \nSöndag 12 maj kl 13:00 – 17:00
URL:https://linss.se/event/regelkurs-for-seglare/
ATTACH;FMTTYPE=image/jpeg:https://linss.se/wp-content/uploads/2023/11/KSR_2021-2024-scaled.jpg
ORGANIZER;CN="Seglingssektionen":MAILTO:seglingssektionen@linss.se
END:VEVENT
BEGIN:VEVENT
DTSTART;TZID=Europe/Stockholm:20240917T190000
DTEND;TZID=Europe/Stockholm:20240917T210000
DTSTAMP:20260423T125717
CREATED:20240902T123355Z
LAST-MODIFIED:20240902T132520Z
UID:2550-1726599600-1726606800@linss.se
SUMMARY:Medlemsmöte inför upptagning
DESCRIPTION:Vi träffas i LSS klubbhus kl. 19 den 17/9 och informerar om den kommande båtupptagningen. \nAvmastningen \nAtt förbereda båten för avmastning\, bokning av tid och förberedelse av vant.\nAtt ta av masten vid mastkranen\nAtt märka och lägga masten i mastskjulet \n  \nUpptagningen på land \n  \nKontrollera ditt upptagningslag och tid\nKontrollera och förbered din varvsplats\nParkera bilen upptagningsdagen\nAnvändning av vatten och el för rengöring samt avstängning av dessa under hösten\nMärkning av båtens plats/vagga med namn och telefonnummer\nLåsning av bommen vid infarten efter upptagningen \nAlla medlemmar är välkomna både gamla och nya medlemmar.  Vi serverar kaffe och en smörgås. Vi slutar senast 21. \nKultursektionen \nDu hittar också instruktioner här:
URL:https://linss.se/event/medlemsmote-infor-upptagning/
ATTACH;FMTTYPE=image/png:https://linss.se/wp-content/uploads/2024/09/imagebot-com-2012042714194724316.png
END:VEVENT
BEGIN:VEVENT
DTSTART;TZID=Europe/Stockholm:20240922T100000
DTEND;TZID=Europe/Stockholm:20240922T160000
DTSTAMP:20260423T125717
CREATED:20240902T123033Z
LAST-MODIFIED:20240902T172700Z
UID:2544-1726999200-1727020800@linss.se
SUMMARY:Arbetsdag tillsammans för er som har arbetsplikt kvar (och alla andra som vill)
DESCRIPTION:Hoppas ni alla har haft en lång och skön båtsommar! \nVi börjar närma oss slutet på säsongen även om vi förhoppningsvis har många fina dagar och helger kvar.\nI år kommer vi från arbetsgruppen att arrangera en arbetsdag där alla som har sin arbetsplikt kvar kan få den avklarad för året. Det är roligare att göra saker tillsammans\, och extra trevligt kommer det bli eftersom vi bjuder på enklare förtäring under dagen\, så vi hoppas att så många som möjligt kan komma och självklart är man välkommen även om man inte har arbetsplikt att utföra.\nMen om du har din arbetsplikt kvar\, boka in söndagen den22 September kl 10-15 för att komma ner till hamnen och hjälpa till med någon av de sysslor som finns att utföra. Vi från arbetsgruppen kommer att vara på plats för att instruera och inspirera. \nFör att vara garanterad förtäring så gå in i BAS och boka dig på passet ”Arbetsdag22/9”\, alternativt svara på detta mail med eventuella allergier. \nFör er som inte kan den 22 september finns det fortfarande ett antal pass i BAS\, några av dem vore bra att få utförda innan arbetsdagen. Gå in och boka dig för ett pass som passar dig redan nu! Tänk på att antalet pass som kan erbjudas minskar när hösten kommer och det blir fuktigt och kallt ute. \nHoppas att vi ses på arbetsdagen!
URL:https://linss.se/event/2544/
LOCATION:Linköpings segelbåtshamn\, Norra Oskarsgatan 51\, Linköping\, 58275\, Sverige
ATTACH;FMTTYPE=image/png:https://linss.se/wp-content/uploads/2024/09/png-transparent-workzone-end-of-work-zone-workmen-ahead-construction-ahead-end-of-construction-roadsign-road-sign-traffic-sign-highway-sign-warning-sign-1284918391.png
END:VEVENT
BEGIN:VEVENT
DTSTART;TZID=Europe/Stockholm:20241005T080000
DTEND;TZID=Europe/Stockholm:20241005T160000
DTSTAMP:20260423T125717
CREATED:20240902T133555Z
LAST-MODIFIED:20240902T133555Z
UID:2556-1728115200-1728144000@linss.se
SUMMARY:Höstens upptagning av båtar 5 oktober!
DESCRIPTION:5 oktober är det dags för höstens upptagning av båtar. \nSom vanligt ordnar Kultursektionen en medlemskväll 17/9 kl 19.00 (se separat evenemang). \nFörberedelser och ”bra att tänka på” hittar ni också här . \nSjälva upptagningen är 5 oktober enlligt schema ni får på mailen. Dår får ni också upptagningslistan med tider. \nObservera att det är nya platser på varvskartan i år för en del av er. \nSom vanligt kommer varvskarta och upptagningslista att anslås på klubbhuset. \nVänligen\,\nTorbjörn P / Varvschef
URL:https://linss.se/event/hostens-upptagning-av-batar-5-oktober/
ATTACH;FMTTYPE=image/jpeg:https://linss.se/wp-content/uploads/2023/03/sjosattning.jpg
END:VEVENT
BEGIN:VEVENT
DTSTART;TZID=Europe/Stockholm:20241017T190000
DTEND;TZID=Europe/Stockholm:20241017T210000
DTSTAMP:20260423T125717
CREATED:20241014T102837Z
LAST-MODIFIED:20241014T102837Z
UID:2609-1729191600-1729198800@linss.se
SUMMARY:Introduktion till e-Segling
DESCRIPTION:Välkommen till en introduktionskväll om e-Segling
URL:https://linss.se/event/introduktion-till-e-segling/
LOCATION:Klubbhuset\, Norra Oskarsgatan 51\, Linköping\, 58275\, Sverige
ATTACH;FMTTYPE=image/png:https://linss.se/wp-content/uploads/2023/04/Screenshot-2020-06-19-16.36.33-840x560-1.png
ORGANIZER;CN="Seglingssektionen":MAILTO:seglingssektionen@linss.se
END:VEVENT
BEGIN:VEVENT
DTSTART;TZID=Europe/Stockholm:20241024T190000
DTEND;TZID=Europe/Stockholm:20241024T210000
DTSTAMP:20260423T125717
CREATED:20240304T165122Z
LAST-MODIFIED:20241022T100110Z
UID:2374-1729796400-1729803600@linss.se
SUMMARY:KM e-segling  2024
DESCRIPTION:Klubbmästerskap i e-segling \nMer information på SailArena \nSeglingen sker Online\, inlogg mm ges efter anmälan \nAnmälan \nAnmälda \nSeglingsföreskrifter
URL:https://linss.se/event/km-e-segling-del-1/
LOCATION:Klubbhuset\, Norra Oskarsgatan 51\, Linköping\, 58275\, Sverige
ATTACH;FMTTYPE=image/png:https://linss.se/wp-content/uploads/2023/04/Screenshot-2020-06-19-16.36.33-840x560-1.png
ORGANIZER;CN="Seglingssektionen":MAILTO:seglingssektionen@linss.se
END:VEVENT
BEGIN:VEVENT
DTSTART;TZID=Europe/Stockholm:20241112T180000
DTEND;TZID=Europe/Stockholm:20241112T210000
DTSTAMP:20260423T125717
CREATED:20241021T174654Z
LAST-MODIFIED:20241021T174849Z
UID:2656-1731434400-1731445200@linss.se
SUMMARY:Säsongen summeras 2024
DESCRIPTION:Välkommen till en kväll med fokus på 2024 års seglingar i LSS klubbhus tisdag den 12 november kl 18.00 \nSeglingssektionen inbjuder alla klubbmedlemmar och andra seglingsintresserade till säsongens sista race för att utse Roxen mästare\, Roxen cup segrare och årets rookie samt hylla medlemmar för årets goda prestationer. Fika och gemytligt sällskap utlovas.
URL:https://linss.se/event/sasongen-summeras-2024/
LOCATION:Klubbhuset\, Norra Oskarsgatan 51\, Linköping\, 58275\, Sverige
ATTACH;FMTTYPE=image/jpeg:https://linss.se/wp-content/uploads/2023/09/image.jpeg
END:VEVENT
BEGIN:VEVENT
DTSTART;TZID=Europe/Stockholm:20241113T180000
DTEND;TZID=Europe/Stockholm:20241113T210000
DTSTAMP:20260423T125717
CREATED:20240928T215933Z
LAST-MODIFIED:20241010T192549Z
UID:2578-1731520800-1731531600@linss.se
SUMMARY:VHF-kurs (SRC) - kurstillfälle 1
DESCRIPTION:Nu ges en SRC-kurs för VHF. Passa på att ta ditt certifikat. \nKursen omfattar 2 kurskvällar samt ett övningstillfälle med praktisk övning och en examinationsdag \nKursavgift 700kr\, då ingår fika och smörgås \nKursbok lite osäkert men runt 300 kr\, vi köper in till er när vi vet hur många som kommer. \nExamination 625 kr. Utförs av godkänd examinator från Nämnden för Båtlivsutbildning (Johan Bergsten) \nIntygsbok\, om ni inte har den redan\, 65 kr. Alternativt digitalt intyg \nAnmälan sker till kursanmalan@linss.se . \nVälkommen!\nPierre Nordmark och Einar Gjellan
URL:https://linss.se/event/vhf-kurs-src-kurstillfalle-1/
LOCATION:Klubbhuset\, Norra Oskarsgatan 51\, Linköping\, 58275\, Sverige
ATTACH;FMTTYPE=image/jpeg:https://linss.se/wp-content/uploads/2024/09/m323.jpg
ORGANIZER;CN="Kultursektionen":MAILTO:kultursektionen@linss.se
END:VEVENT
BEGIN:VEVENT
DTSTART;TZID=Europe/Stockholm:20241120T180000
DTEND;TZID=Europe/Stockholm:20241120T210000
DTSTAMP:20260423T125717
CREATED:20240928T220134Z
LAST-MODIFIED:20241010T192652Z
UID:2583-1732125600-1732136400@linss.se
SUMMARY:VHF-kurs (SRC) - kurstillfälle 2
DESCRIPTION:Nu ges en SRC-kurs för VHF. Passa på att ta ditt certifikat. \nKursen omfattar 2 kurskvällar samt ett övningstillfälle med praktisk övning och en examinationsdag \nKursavgift 700kr\, då ingår fika och smörgås \nKursbok lite osäkert men runt 300 kr\, vi köper in till er när vi vet hur många som kommer. \nExamination 625 kr. Utförs av godkänd examinator från Nämnden för Båtlivsutbildning (Johan Bergsten) \nIntygsbok\, om ni inte har den redan\, 65 kr. Alternativt digitalt intyg \nAnmälan sker till kursanmalan@linss.se . \nVälkommen!\nPierre Nordmark och Einar Gjellan
URL:https://linss.se/event/vhf-kurs-src-kurstillfalle-2/
LOCATION:Klubbhuset\, Norra Oskarsgatan 51\, Linköping\, 58275\, Sverige
ATTACH;FMTTYPE=image/jpeg:https://linss.se/wp-content/uploads/2024/09/m323.jpg
ORGANIZER;CN="Kultursektionen":MAILTO:kultursektionen@linss.se
END:VEVENT
BEGIN:VEVENT
DTSTART;TZID=Europe/Stockholm:20241121T180000
DTEND;TZID=Europe/Stockholm:20241121T210000
DTSTAMP:20260423T125717
CREATED:20241020T214521Z
LAST-MODIFIED:20241020T214558Z
UID:2649-1732212000-1732222800@linss.se
SUMMARY:Kulturklubben anordnar en speciell knop-kväll
DESCRIPTION:Det speciella denna kväll är att Berndt Bock lär dig knyta nät. Nätet kan du ha till mantåget\, fiskehåv eller underkläder. Lite beroende på den valda maskstorleken \nFörutom detta erbjuder vi handledning i: \nSplits av 3-slagna linor \nHur du ska ta hand om dina linor\, Skjuta upp\, hänga på mantåget \nOlika metoder att tagla ändar på linor\, du kan ta med egna linor med fula ändar \nVi visar olika verktyg du kan ha nytta av \nFörsäljning av linor samt utrustning för nätbindning \nTrolleri med lina \nKlubben bjuder på fika med smörgås.\nIngen föranmälan. \nVarmt Välkomna! \nKulturnissarna
URL:https://linss.se/event/kulturklubben-anordnar-en-speciell-knop-kvall/
LOCATION:Klubbhuset\, Norra Oskarsgatan 51\, Linköping\, 58275\, Sverige
ATTACH;FMTTYPE=image/jpeg:https://linss.se/wp-content/uploads/2024/10/NetPicture1.jpg
END:VEVENT
BEGIN:VEVENT
DTSTART;TZID=Europe/Stockholm:20241127T180000
DTEND;TZID=Europe/Stockholm:20241127T210000
DTSTAMP:20260423T125717
CREATED:20240928T220210Z
LAST-MODIFIED:20241010T192742Z
UID:2585-1732730400-1732741200@linss.se
SUMMARY:VHF-kurs (SRC) - kurstillfälle 3
DESCRIPTION:Nu ges en SRC-kurs för VHF. Passa på att ta ditt certifikat. \nKursen omfattar 2 kurskvällar samt ett övningstillfälle med praktisk övning och en examinationsdag \nKursavgift 700kr\, då ingår fika och smörgås \nKursbok lite osäkert men runt 300 kr\, vi köper in till er när vi vet hur många som kommer. \nExamination 625 kr. Utförs av godkänd examinator från Nämnden för Båtlivsutbildning (Johan Bergsten) \nIntygsbok\, om ni inte har den redan\, 65 kr. Alternativt digitalt intyg \nAnmälan sker till kursanmalan@linss.se . \nVälkommen!\nPierre Nordmark och Einar Gjellan
URL:https://linss.se/event/vhf-kurs-src-kurstillfalle-3/
LOCATION:Klubbhuset\, Norra Oskarsgatan 51\, Linköping\, 58275\, Sverige
ATTACH;FMTTYPE=image/jpeg:https://linss.se/wp-content/uploads/2024/09/m323.jpg
ORGANIZER;CN="Kultursektionen":MAILTO:kultursektionen@linss.se
END:VEVENT
BEGIN:VEVENT
DTSTART;TZID=Europe/Stockholm:20241128T190000
DTEND;TZID=Europe/Stockholm:20241128T210000
DTSTAMP:20260423T125717
CREATED:20241109T192938Z
LAST-MODIFIED:20241109T193039Z
UID:2679-1732820400-1732827600@linss.se
SUMMARY:Medlemsmöte LSS den 28 november
DESCRIPTION:Hej LSS:are! \nNästa månad\, den 28 november kl 19:00\, är det medlemsmöte för LSS\, det andra för året. Dagordningen finns här! \nKaffe och fika serveras på mötet i LSS Klubbhus. \nVarmt välkomna! \n/LSS styrelse
URL:https://linss.se/event/2679/
END:VEVENT
BEGIN:VEVENT
DTSTART;TZID=Europe/Stockholm:20241205T180000
DTEND;TZID=Europe/Stockholm:20241205T210000
DTSTAMP:20260423T125717
CREATED:20240928T220301Z
LAST-MODIFIED:20241010T192837Z
UID:2587-1733421600-1733432400@linss.se
SUMMARY:VHF-kurs (SRC) - examination
DESCRIPTION:Nu ges en SRC-kurs för VHF. Passa på att ta ditt certifikat. \nKursen omfattar 2 kurskvällar samt ett övningstillfälle med praktisk övning och en examinationsdag \nKursavgift 700kr\, då ingår fika och smörgås \nKursbok lite osäkert men runt 300 kr\, vi köper in till er när vi vet hur många som kommer. \nExamination 625 kr. Utförs av godkänd examinator från Nämnden för Båtlivsutbildning (Johan Bergsten) \nIntygsbok\, om ni inte har den redan\, 65 kr. Alternativt digitalt intyg \nAnmälan sker till kursanmalan@linss.se . \nVälkommen!\nPierre Nordmark och Einar Gjellan
URL:https://linss.se/event/vhf-kurs-src-examination/
LOCATION:Klubbhuset\, Norra Oskarsgatan 51\, Linköping\, 58275\, Sverige
ATTACH;FMTTYPE=image/jpeg:https://linss.se/wp-content/uploads/2024/09/m323.jpg
ORGANIZER;CN="Kultursektionen":MAILTO:kultursektionen@linss.se
END:VEVENT
BEGIN:VEVENT
DTSTART;TZID=Europe/Stockholm:20241210T160000
DTEND;TZID=Europe/Stockholm:20241210T210000
DTSTAMP:20260423T125717
CREATED:20241110T220643Z
LAST-MODIFIED:20251102T173755Z
UID:2702-1733846400-1733864400@linss.se
SUMMARY:Ljusstöpning i klubbhuset
DESCRIPTION:LSS Kulturkommitte´ presenterar\, lite stolt\, en kväll med\nLjusstöpning i klubbhuset!\n\nJulen närmar sig med stormsteg och om Ni har tänkt att förgylla\nårets julbord med utsmyckning i form av egenhändigt stöpta ljus\nmen ännu inte hunnit med har Ni nu chansen!\n\nNi inbjuds till en ljusstöparkväll tisdagen den 10 december\nVi startar lite försiktigt vid 16-tiden med anmälda som kan komma\nifrån lite tidigare och övriga ansluter senare när de kunnat komma\nifrån övriga engagemang.\nKapaciteten i den anläggning vi riggar upp är ca 140 ljus och\nstöpningen tar 4-5 timmar. Resultatet kommer att bli långa fina\nstöpta ljus som brinner fint och pryder vilket bord som helst.\nEfter att vi är klara delar vi på ljusen\, kostnaden för ljusmassan vi\nförbrukat samt fikat vi förtärt.\n\nVi tar emot max 10 deltagare och först till kvarn gäller! Anmälan\nmed namn och telefonnr till Kursanmalan@linss.se. Ange att det\när ljusstöpningskvällen du vill komma på.\nFrågor? Ring Berndt Bock på tfn 070-3953023\nVälkomna!
URL:https://linss.se/event/ljusstopning-i-klubbhuset/
LOCATION:Klubbhuset\, Norra Oskarsgatan 51\, Linköping\, 58275\, Sverige
ATTACH;FMTTYPE=image/jpeg:https://linss.se/wp-content/uploads/2024/11/ljus.jpg
ORGANIZER;CN="Kultursektionen":MAILTO:kultursektionen@linss.se
END:VEVENT
BEGIN:VEVENT
DTSTART;TZID=Europe/Stockholm:20250108T180000
DTEND;TZID=Europe/Stockholm:20250108T210000
DTSTAMP:20260423T125717
CREATED:20241214T201759Z
LAST-MODIFIED:20241228T122809Z
UID:2705-1736359200-1736370000@linss.se
SUMMARY:Linköpings Segelsällskaps Förarintygskurs 2025 - INSTÄLLD - Vi återkommer
DESCRIPTION:Kursen är inställd på grund av för få deltagare. Vi återkommer med nya tillfällen.
URL:https://linss.se/event/linkopings-segelsallskaps-forarintygskurs-2025-traff-1/
LOCATION:Klubbhuset\, Norra Oskarsgatan 51\, Linköping\, 58275\, Sverige
CATEGORIES:Kurser,Nyheter
ATTACH;FMTTYPE=image/jpeg:https://linss.se/wp-content/uploads/2024/11/Picture1.jpg
ORGANIZER;CN="Kultursektionen":MAILTO:kultursektionen@linss.se
END:VEVENT
BEGIN:VEVENT
DTSTART;TZID=Europe/Stockholm:20250123T180000
DTEND;TZID=Europe/Stockholm:20250123T210000
DTSTAMP:20260423T125717
CREATED:20250109T221043Z
LAST-MODIFIED:20250109T221043Z
UID:2796-1737655200-1737666000@linss.se
SUMMARY:Medlemskväll med Sjöräddningssällskapet
DESCRIPTION:Sjöräddningssällskapet i Vadstena/Motala berättar om sin verksamhet. \nVi börjar klockan 18 och slutar senast 21. \nVi serverar ärtsoppa och pannkakor – ingen kostnad\, men skicka ett mail till kursanmalan@linss.se senast 21 januari så att vi vet hur många vi blir. \nVälkommen! \nKultursektionen
URL:https://linss.se/event/medlemskvall-med-sjoraddningssallskapet/
LOCATION:Klubbhuset\, Norra Oskarsgatan 51\, Linköping\, 58275\, Sverige
CATEGORIES:Kurser,Nyheter
ATTACH;FMTTYPE=image/png:https://linss.se/wp-content/uploads/2025/01/Picture1.png
ORGANIZER;CN="Kultursektionen":MAILTO:kultursektionen@linss.se
END:VEVENT
BEGIN:VEVENT
DTSTART;TZID=Europe/Stockholm:20250204T180000
DTEND;TZID=Europe/Stockholm:20250204T200000
DTSTAMP:20260423T125717
CREATED:20250126T182625Z
LAST-MODIFIED:20250126T182625Z
UID:2850-1738692000-1738699200@linss.se
SUMMARY:Medlemskväll om segling - Vindarnas riddare
DESCRIPTION:Kulturklubben har nöjet att inbjuda till samtal med Sveriges mest meriterade Laserseglare: Karl Sunesson som bor i Borensberg. Vi genomför ett samtal om segling och försöker besvara frågor ni kan ha. \n  \nVi bjuder på Fransk löksoppa med brödkrutonger före kvällens Upplysning. Evenemanget är gratis\, men anmäl dig på kursanmalan@linss.se så att vi kan beräkna maten. \nVälkommen! \n 
URL:https://linss.se/event/medlemskvall-om-segling-vindarnas-riddare/
LOCATION:Klubbhuset\, Norra Oskarsgatan 51\, Linköping\, 58275\, Sverige
CATEGORIES:Nyheter
ATTACH;FMTTYPE=image/jpeg:https://linss.se/wp-content/uploads/2025/01/Picture2.jpg
ORGANIZER;CN="Kultursektionen":MAILTO:kultursektionen@linss.se
END:VEVENT
BEGIN:VEVENT
DTSTART;TZID=Europe/Stockholm:20250306T180000
DTEND;TZID=Europe/Stockholm:20250306T200000
DTSTAMP:20260423T125717
CREATED:20250214T060029Z
LAST-MODIFIED:20250214T060029Z
UID:2881-1741284000-1741291200@linss.se
SUMMARY:Repetition av navigation - oavsett förkunskaper
DESCRIPTION:Repetition av basal manuell navigation för alla medlemmar oavsett förkunskaper \nKl. 18 serverar kvällen soppa (borsjtj) utan gluten eller kött\, med bröd och gräddfil. Efter maten går vi igenom följande basala navigations kunskaper: \nKompassen \nSjövägsregler \nSjömärken och ljudsignaler \nVälkomna!\nKulturklubben \n 
URL:https://linss.se/event/repetition-av-navigation-oavsett-forkunskaper/
LOCATION:Klubbhuset\, Norra Oskarsgatan 51\, Linköping\, 58275\, Sverige
CATEGORIES:Kurser
ATTACH;FMTTYPE=image/jpeg:https://linss.se/wp-content/uploads/2025/02/Picture1.jpg
ORGANIZER;CN="Kultursektionen":MAILTO:kultursektionen@linss.se
END:VEVENT
BEGIN:VEVENT
DTSTART;TZID=Europe/Stockholm:20250313T183000
DTEND;TZID=Europe/Stockholm:20250313T210000
DTSTAMP:20260423T125717
CREATED:20250308T105550Z
LAST-MODIFIED:20260111T161835Z
UID:2922-1741890600-1741899600@linss.se
SUMMARY:Årsmöte LSS
DESCRIPTION:Mötet börjar kl 18.30 med att Daniel berättar var vi befinner oss i projektet “nytt” sjökort på Roxen. Vi bjuder på kaffe och smörgås.\nEv motioner måste vara styrelsen tillhanda innan den 3 mars. Till styrelse@linss.se.\n\nVälkomna\nStyrelsen
URL:https://linss.se/event/arsmote-lss/
LOCATION:Klubbhuset\, Norra Oskarsgatan 51\, Linköping\, 58275\, Sverige
CATEGORIES:Nyheter
ATTACH;FMTTYPE=image/png:https://linss.se/wp-content/uploads/2022/10/LSS-Logo-1912-150.png
END:VEVENT
BEGIN:VEVENT
DTSTART;TZID=Europe/Stockholm:20250319T180000
DTEND;TZID=Europe/Stockholm:20250319T210000
DTSTAMP:20260423T125717
CREATED:20250308T103759Z
LAST-MODIFIED:20250308T105837Z
UID:2914-1742407200-1742418000@linss.se
SUMMARY:Seglings-AW 19 mars!
DESCRIPTION:Hej!\nNu kör vi igång seglingssäsongen med en AW\, den 19 mars på Strandgatan 2 i Linköping. Alla är välkomna\, särskilt nya medlemmar! Passa på att träffa andra i klubben\, hitta en gast eller skeppare inför vårens seglingar eller bara ha kul. På stor-skärmarna visas förhoppningsvis segling\, om vi får ihop det med rättigheterna och så där (de verkar vara mer vana att visa hockey eller fotboll?!!).\nVi ses kl 18 i baren och kl 19 har vi bokat bord för de som vill äta. OBS! Anmäl dig senast 17 mars om du vill ha plats vid bordet!!!\nLänk till anmälan: https://forms.gle/NxUiXJXJwUfpdaf3A\n\nVi ses!\n/Anna och Lena
URL:https://linss.se/event/seglings-aw-19-mars/
LOCATION:Strandgatan 2\, Strandgatan 2\, Linköping\, Sweden
CATEGORIES:Nyheter
ATTACH;FMTTYPE=image/jpeg:https://linss.se/wp-content/uploads/2025/03/afterwork.jpg
END:VEVENT
BEGIN:VEVENT
DTSTART;TZID=Europe/Stockholm:20250320T180000
DTEND;TZID=Europe/Stockholm:20250320T210000
DTSTAMP:20260423T125717
CREATED:20250306T215907Z
LAST-MODIFIED:20250306T215907Z
UID:2909-1742493600-1742504400@linss.se
SUMMARY:Semestersegla i Estland – Sveriges östra skärgård
DESCRIPTION:Att ta sig över Östersjön\nHur är de estniska farvattnen och de estniska sjökorten?\nVår gemensamma historia från medeltid till andra världskrigets slut\nBesök på några estniska öae\nHur vi hamnade i ett baptiskpapell på Hiiumaa\n\nVi börjar med lite ätbart kl 18 och föredraget tar vid runt 18.30 \nAnmäl dig via länken \n 
URL:https://linss.se/event/semestersegla-i-estland-sveriges-ostra-skargard/
CATEGORIES:Kurser,Nyheter
ATTACH;FMTTYPE=image/jpeg:https://linss.se/wp-content/uploads/2025/03/estland.jpg
END:VEVENT
BEGIN:VEVENT
DTSTART;TZID=Europe/Stockholm:20250331T200000
DTEND;TZID=Europe/Stockholm:20250331T220000
DTSTAMP:20260423T125717
CREATED:20250313T174833Z
LAST-MODIFIED:20250325T141256Z
UID:2934-1743451200-1743458400@linss.se
SUMMARY:Studiebesök på Linköpings Astronomiska sällskap
DESCRIPTION:Vi har bokat ett besök den 31/3(måndag) eller 1/4(tisdagen) nästa vecka för att få en guidning av vår aktuella stjärnhimmel. Besöket börjar kl. 20 och pågår ca. 1\,5 timmar. Kostnaden för hela besöket är 500 kr att fördela på alla deltagare som kommer så vi behöver vara några (fler än 4 och mindre än 15) för att besöket ska bli av. Vi måste ha anmälningar senast på torsdag 27/3. Besöket är beroende av en klar himmel och ställs in\, eller flyttas till tisdagen vid molnigt väder. Vi samlas vid klubbhuset kl.19.15 för samåkning till Landeryd. \nVälkomna med anmälan till kultursektionen: Anmäl dig snarast på kursanmalan@linss.se – ange ”Astronomi” i rubriken \nLänk till sällskapet: Östergötlands Astronomiska Sällskap
URL:https://linss.se/event/studiebesok-pa-linkopings-astronomiska-sallskap/
LOCATION:Klubbhuset\, Norra Oskarsgatan 51\, Linköping\, 58275\, Sverige
CATEGORIES:Kurser,Nyheter
ATTACH;FMTTYPE=image/jpeg:https://linss.se/wp-content/uploads/2025/03/astronomi.jpg
END:VEVENT
BEGIN:VEVENT
DTSTART;TZID=Europe/Stockholm:20250412T100000
DTEND;TZID=Europe/Stockholm:20250412T170000
DTSTAMP:20260423T125717
CREATED:20250313T175724Z
LAST-MODIFIED:20250318T100248Z
UID:2937-1744452000-1744477200@linss.se
SUMMARY:Fix och trix med båten
DESCRIPTION:Snart sjö-sättning\, och dax att fixa båten! Fix och trix i hamnen – lyssna på temagenomgångar. dela med dig\, ta råd och få hjälp. På förmiddagen blir det tematiska genomgångar\, sedan lunch\, sedan eget arbete med möjlighet att få hjälp på eftermiddagen. Kom och fixa med din egen båt\, eller hjälp till med någon annans. Perfekt för dig som inte än har egen båt\, men skulle vilja lära dig mer! \nMer information kommer. \n 
URL:https://linss.se/event/fix-och-trix/
LOCATION:Klubbhuset\, Norra Oskarsgatan 51\, Linköping\, 58275\, Sverige
CATEGORIES:Kurser,Nyheter
ATTACH;FMTTYPE=image/jpeg:https://linss.se/wp-content/uploads/2025/03/carpintaria-jorge.jpg
END:VEVENT
BEGIN:VEVENT
DTSTART;TZID=Europe/Stockholm:20250423T180000
DTEND;TZID=Europe/Stockholm:20250423T210000
DTSTAMP:20260423T125717
CREATED:20250308T104435Z
LAST-MODIFIED:20250325T233049Z
UID:2920-1745431200-1745442000@linss.se
SUMMARY:Genomgång inför sjösättningen
DESCRIPTION:Det är sjösättning 3 maj. Inför det fixar vi sedvanlig genomgång av saker att tänka på innan sjösättningen och hur sjösättningen går till. \nOBS! Ändrat datum!
URL:https://linss.se/event/genomgang-infor-sjosattningen/
LOCATION:Klubbhuset\, Norra Oskarsgatan 51\, Linköping\, 58275\, Sverige
CATEGORIES:Nyheter
ATTACH;FMTTYPE=image/jpeg:https://linss.se/wp-content/uploads/2024/09/DSC_2480-scaled.jpg
ORGANIZER;CN="Kultursektionen":MAILTO:kultursektionen@linss.se
END:VEVENT
BEGIN:VEVENT
DTSTART;VALUE=DATE:20250503
DTEND;VALUE=DATE:20250504
DTSTAMP:20260423T125717
CREATED:20241214T220210Z
LAST-MODIFIED:20241214T220210Z
UID:2786-1746230400-1746316799@linss.se
SUMMARY:Sjösättning 3 maj
DESCRIPTION:3 maj 2025 är det dags för årets sjösättning. Du kan läsa mer om det här. \nOBS! Du behöver ha skrivit på båtplatsavtalet och så måste du vara skuldfri gentemot LSS för att få lyfta i din båt.
URL:https://linss.se/event/sjosattning-3-maj/
LOCATION:Linköpings segelbåtshamn\, Norra Oskarsgatan 51\, Linköping\, 58275\, Sverige
ATTACH;FMTTYPE=image/jpeg:https://linss.se/wp-content/uploads/2024/09/DSC_2480-scaled.jpg
END:VEVENT
BEGIN:VEVENT
DTSTART;TZID=Europe/Stockholm:20250503T170000
DTEND;TZID=Europe/Stockholm:20250503T180000
DTSTAMP:20260423T125717
CREATED:20250502T070355Z
LAST-MODIFIED:20250502T070355Z
UID:3004-1746291600-1746295200@linss.se
SUMMARY:Vaktinstruktion 3 maj kl 17
DESCRIPTION:För dig som ska gå nattvakt i hamnen finns nu ett tillfälle till genomgång av vaktinstruktionen tillsammans med Pierre Nordmark och Berndt Bock. \nSamling i vaktlokalen.
URL:https://linss.se/event/vaktinstruktion-3-maj-kl-17/
LOCATION:Klubbhuset\, Norra Oskarsgatan 51\, Linköping\, 58275\, Sverige
ORGANIZER;CN="LBH":MAILTO:lbh@linss.se
END:VEVENT
END:VCALENDAR