BEGIN:VCALENDAR
VERSION:2.0
PRODID:-//Linköpings Segelsällskap - ECPv6.15.20//NONSGML v1.0//EN
CALSCALE:GREGORIAN
METHOD:PUBLISH
X-WR-CALNAME:Linköpings Segelsällskap
X-ORIGINAL-URL:https://linss.se
X-WR-CALDESC:Händelser för Linköpings Segelsällskap
REFRESH-INTERVAL;VALUE=DURATION:PT1H
X-Robots-Tag:noindex
X-PUBLISHED-TTL:PT1H
BEGIN:VTIMEZONE
TZID:Europe/Stockholm
BEGIN:DAYLIGHT
TZOFFSETFROM:+0100
TZOFFSETTO:+0200
TZNAME:CEST
DTSTART:20250330T010000
END:DAYLIGHT
BEGIN:STANDARD
TZOFFSETFROM:+0200
TZOFFSETTO:+0100
TZNAME:CET
DTSTART:20251026T010000
END:STANDARD
BEGIN:DAYLIGHT
TZOFFSETFROM:+0100
TZOFFSETTO:+0200
TZNAME:CEST
DTSTART:20260329T010000
END:DAYLIGHT
BEGIN:STANDARD
TZOFFSETFROM:+0200
TZOFFSETTO:+0100
TZNAME:CET
DTSTART:20261025T010000
END:STANDARD
BEGIN:DAYLIGHT
TZOFFSETFROM:+0100
TZOFFSETTO:+0200
TZNAME:CEST
DTSTART:20270328T010000
END:DAYLIGHT
BEGIN:STANDARD
TZOFFSETFROM:+0200
TZOFFSETTO:+0100
TZNAME:CET
DTSTART:20271031T010000
END:STANDARD
END:VTIMEZONE
BEGIN:VEVENT
DTSTART;TZID=Europe/Stockholm:20260114T180000
DTEND;TZID=Europe/Stockholm:20260318T210000
DTSTAMP:20260423T161328
CREATED:20251102T182846Z
LAST-MODIFIED:20251130T231116Z
UID:3315-1768413600-1773867600@linss.se
SUMMARY:Förarintygskurs våren 2026
DESCRIPTION:Välkommen till vårens förarintygskurs. Läs mer och anmäl dig här
URL:https://linss.se/event/forarintygskurs-varen-2026/
LOCATION:Klubbhuset\, Norra Oskarsgatan 51\, Linköping\, 58275\, Sverige
ATTACH;FMTTYPE=image/jpeg:https://linss.se/wp-content/uploads/2025/11/Picture1.jpg
ORGANIZER;CN="Kultursektionen":MAILTO:kultursektionen@linss.se
END:VEVENT
BEGIN:VEVENT
DTSTART;TZID=Europe/Stockholm:20260201T000000
DTEND;TZID=Europe/Stockholm:20260201T235959
DTSTAMP:20260423T161328
CREATED:20251216T143439Z
LAST-MODIFIED:20260113T180917Z
UID:3590-1769904000-1769990399@linss.se
SUMMARY:Anmälan till Seglarskola 2026 öppnar 1/2.
DESCRIPTION:Mer information hittar du här .
URL:https://linss.se/event/anmalan-till-seglarskola-2026-oppnar/
END:VEVENT
BEGIN:VEVENT
DTSTART;TZID=Europe/Stockholm:20260212T183000
DTEND;TZID=Europe/Stockholm:20260212T210000
DTSTAMP:20260423T161328
CREATED:20251104T221932Z
LAST-MODIFIED:20260125T214513Z
UID:3413-1770921000-1770930000@linss.se
SUMMARY:Sara Granberg - en VM-seglare ursprungligen från LSS!
DESCRIPTION:Sara Granberg berättar om sin seglarkarriär först i LSS senare i annan klubb. Den omfattar framgångar inom e-segling (VM) och fysisk segling på hög tävlingsnivå.Enklare förtäring serveras om du anmäler dig nedan. \n\n\n\n\n\n\n\n\n  \n\n\n\nAnvänd formuläret för att anmäla dig till kvällen\n \nDitt namn*\n\n \nDin epost*\n\n \nDin mobil*\n\n \nDin klubb*\nLSS (Linköpings Segelsällskap)SSR (Segelsällskapet Roxen)LMBK (Linköpings Motorbåtsklubb)Linköpings Jolleseglarklubb (LJS)\n \nÖvriga noteringar\n\n\n \nSkriv in följande bokstäver i rutan nedanför: \n \n\n \n\n Δ
URL:https://linss.se/event/forelasning-3/
LOCATION:Klubbhuset\, Norra Oskarsgatan 51\, Linköping\, 58275\, Sverige
ATTACH;FMTTYPE=image/jpeg:https://linss.se/wp-content/uploads/2025/11/Picture1-1.jpg
ORGANIZER;CN="Kultursektionen":MAILTO:kultursektionen@linss.se
END:VEVENT
BEGIN:VEVENT
DTSTART;TZID=Europe/Stockholm:20260226T183000
DTEND;TZID=Europe/Stockholm:20260226T210000
DTSTAMP:20260423T161328
CREATED:20260216T083215Z
LAST-MODIFIED:20260216T083507Z
UID:3785-1772130600-1772139600@linss.se
SUMMARY:E-seglingskväll!
DESCRIPTION:Längtar du efter sommar och segling? \n\n\n\n\n\n\n\nHäng med oss på en digital kväll där vi hjälper dig att komma igång med e-segling\, en lanterna i vintermörkret. Ta med dig ”paddan” eller datorn så hjälps vi åt att skapa ett konto och kasta loss. \n\n\n\ne-seglingen hjälper inte bara mot seglarabstinensen\, på ett enkelt och säkert sätt ger den dig förståelse för starter\, rundningar\, vindskiften\, väjningsregler och taktik inför sommarens kappseglingar – direkt från soffan. \n\n\n\nNär alla är igång hoppas vi få till ett par seglingar direkt på projektorn. \n\n\n\nLäs mer om e-segling här https://linss.se/e-segling-lss/ \n\n\n\n\n  \n\n\n\nAnvänd formuläret för att anmäla dig till kvällen\n \nDitt namn*\n\n \nDin epost*\n\n \nDin mobil*\n\n \nDin klubb*\nLSS (Linköpings Segelsällskap)SSR (Segelsällskapet Roxen)LMBK (Linköpings Motorbåtsklubb)Linköpings Jolleseglarklubb (LJS)\n \nÖvriga noteringar\n\n\n \nSkriv in följande bokstäver i rutan nedanför: \n \n\n \n\n Δ
URL:https://linss.se/event/e-seglingskvall/
LOCATION:Klubbhuset\, Norra Oskarsgatan 51\, Linköping\, 58275\, Sverige
ATTACH;FMTTYPE=image/png:https://linss.se/wp-content/uploads/2026/02/Screenshot-2020-06-19-16.36.33-840x560-1.png
ORGANIZER;CN="Seglingssektionen":MAILTO:seglingssektionen@linss.se
END:VEVENT
BEGIN:VEVENT
DTSTART;TZID=Europe/Stockholm:20260305T183000
DTEND;TZID=Europe/Stockholm:20260305T210000
DTSTAMP:20260423T161328
CREATED:20251104T212500Z
LAST-MODIFIED:20260220T131327Z
UID:3389-1772735400-1772744400@linss.se
SUMMARY:Sjukvård ombord
DESCRIPTION:Hur undviker du skador ombord och vad bör du ha i skeppsapoteket?Kristian Gjessing är seglare och specialist i allmänmedicin.Enklare förtäring serveras\, men du måste anmäla dig nedan. \n\n\n\n\n\n\n\n\n  \n\n\n\nAnvänd formuläret för att anmäla dig till kvällen\n \nDitt namn*\n\n \nDin epost*\n\n \nDin mobil*\n\n \nDin klubb*\nLSS (Linköpings Segelsällskap)SSR (Segelsällskapet Roxen)LMBK (Linköpings Motorbåtsklubb)Linköpings Jolleseglarklubb (LJS)\n \nÖvriga noteringar\n\n\n \n\n Δ
URL:https://linss.se/event/sjukvard_5_mars/
LOCATION:Klubbhuset\, Norra Oskarsgatan 51\, Linköping\, 58275\, Sverige
ATTACH;FMTTYPE=image/jpeg:https://linss.se/wp-content/uploads/2025/11/380314290.jpg
ORGANIZER;CN="Kultursektionen":MAILTO:kultursektionen@linss.se
END:VEVENT
BEGIN:VEVENT
DTSTART;TZID=Europe/Stockholm:20260308T130000
DTEND;TZID=Europe/Stockholm:20260308T170000
DTSTAMP:20260423T161328
CREATED:20251212T145907Z
LAST-MODIFIED:20260207T111136Z
UID:3580-1772974800-1772989200@linss.se
SUMMARY:Regelrepetition 2026-03-08
DESCRIPTION:En eftermiddag med fokus på kappseglingsregler. \n\n\n\nMer information och anmälan hittar ni här
URL:https://linss.se/event/regelrepetition-2026-03-08/
ATTACH;FMTTYPE=image/jpeg:https://linss.se/wp-content/uploads/2023/03/kappseglingsregerna-2021-2024.jpeg
END:VEVENT
BEGIN:VEVENT
DTSTART;TZID=Europe/Stockholm:20260312T190000
DTEND;TZID=Europe/Stockholm:20260312T210000
DTSTAMP:20260423T161328
CREATED:20260111T162201Z
LAST-MODIFIED:20260201T225936Z
UID:3638-1773342000-1773349200@linss.se
SUMMARY:Årsmöte 2026 LSS
DESCRIPTION:Årsmöte 2026! \nVi bjuder på kaffe och smörgås.Ev motioner måste vara styrelsen tillhanda innan den 2 mars och skickas till styrelse@linss.se. \nVälkomnaStyrelsen \nAgenda\nAvlidna medlemmarPresentation av nya medlemmarVeteranerHedersmedlemmarF 01. ÅRSMÖTETS ÖPPNANDEF 02. KALLELSE TILL MÖTETF 03. VAL AV ORDFÖRANDE OCH SEKRETERARE FÖR ÅRSMÖTETF 04. VAL AV TVÅ JUSTERARE SAMT RÖSTRÄKNAREF 05. GODKÄNNANDE AV DAGORDNINGF 06. SYNPUNKTER PÅ FÖREGÅENDE MÖTESPROTOKOLLF 07. LSS VERKSAMHETSBERÄTTELSE 2025F 08. ÅRSBERÄTTELSE FÖR SEGLINGSSEKTIONEN 2025F 09. BOKSLUT FÖR 2025F 10. REVISIONSBERÄTTELSE LSS 2025F 11. ANSVARSFRIHET FÖR LSS STYRELSEF 12. VERKSAMHETSPLAN 2026F 13. ARBETSPLIKTSBEFRIELSE OCH ARVODENF 14. FASTSTÄLLANDE AV BUDGET FÖR 2026F 15. FRAMTIDA EFTERRÄTTELSERF 16. FÖRVALTNINGS OCH REVISIONSBERÄTTELSE FÖR LBH 2025F 17. ANSVARSFRIHET FÖR HAMNFÖRENINGENS STYRELSE 2025F 18. VERKSAMHETSPLAN FÖR LBH 2026F 19. LBH BUDGETFÖRSLAG 2026F 20. VALBEREDNINGENS FÖRSLAG LSS STYRELSE LEDAMÖTERFUNKTIONÄRERF 21. FASTSTÄLLANDE AV SEGLINGSPROGRAM 2026F 22. ÖVRIGA FRÅGORF 23. MÖTETS AVSLUTANDE
URL:https://linss.se/event/arsmote-lss-2/
LOCATION:Klubbhuset\, Norra Oskarsgatan 51\, Linköping\, 58275\, Sverige
CATEGORIES:Nyheter
ATTACH;FMTTYPE=image/png:https://linss.se/wp-content/uploads/2022/10/LSS-Logo-1912-150.png
END:VEVENT
BEGIN:VEVENT
DTSTART;TZID=Europe/Stockholm:20260319T183000
DTEND;TZID=Europe/Stockholm:20260319T210000
DTSTAMP:20260423T161328
CREATED:20251104T212700Z
LAST-MODIFIED:20260216T084318Z
UID:3391-1773945000-1773954000@linss.se
SUMMARY:Seminarium om vanliga elinstallationer i fritidsbåtar
DESCRIPTION:Inledning av Gunnar Hansson (renoverat sitt 12 V-System i vinter) och Mårten Lundgren (nyinstallation av litium-batterier under 2025). Efter inledningen har vi fria diskussioner. \n\n\n\n\n  \n\n\n\nAnvänd formuläret för att anmäla dig till kvällen\n \nDitt namn*\n\n \nDin epost*\n\n \nDin mobil*\n\n \nDin klubb*\nLSS (Linköpings Segelsällskap)SSR (Segelsällskapet Roxen)LMBK (Linköpings Motorbåtsklubb)Linköpings Jolleseglarklubb (LJS)\n \nÖvriga noteringar\n\n\n \nSkriv in följande bokstäver i rutan nedanför: \n \n\n \n\n Δ
URL:https://linss.se/event/underhall-av-motor-och-bat-rigg-preliminar/
LOCATION:Klubbhuset\, Norra Oskarsgatan 51\, Linköping\, 58275\, Sverige
ATTACH;FMTTYPE=image/jpeg:https://linss.se/wp-content/uploads/2025/11/Bild1.jpg
ORGANIZER;CN="Kultursektionen":MAILTO:kultursektionen@linss.se
END:VEVENT
BEGIN:VEVENT
DTSTART;TZID=Europe/Stockholm:20260321T100000
DTEND;TZID=Europe/Stockholm:20260321T140000
DTSTAMP:20260423T161328
CREATED:20260314T133803Z
LAST-MODIFIED:20260317T215332Z
UID:3830-1774087200-1774101600@linss.se
SUMMARY:DF65 Trim o tips dag
DESCRIPTION:Mer info finns här
URL:https://linss.se/event/df65-trim-o-tips-dag/
END:VEVENT
BEGIN:VEVENT
DTSTART;TZID=Europe/Stockholm:20260326T180000
DTEND;TZID=Europe/Stockholm:20260326T200000
DTSTAMP:20260423T161328
CREATED:20260125T204701Z
LAST-MODIFIED:20260125T204719Z
UID:3723-1774548000-1774555200@linss.se
SUMMARY:Digital examination / provtillfälle
DESCRIPTION:Detta tillfälle kan du examineras för NFB intyg (OBS! Du ska ha anmält dig till NFB innan. Se hur man gör här.) \n\n\n\n\n\n\n\n\n  \n\n\n\nAnmälan till Provtillfälle 2026-03-26\n\nAnvänd formuläret nedan för att anmäla dig till provtillfälle 2026-03-26\n \nDitt namn*\n\n \nDin epost*\n\n \nDin mobil*\n\n \nDin klubb*\nLSS (Linköpings Segelsällskap)SSR (Segelsällskapet Roxen)LMBK (Linköpings Motorbåtsklubb)Linköpings Jolleseglarklubb (LJS)\n \nÖvriga noteringar\n\n\n \nSkriv in följande bokstäver i rutan nedanför: \n \n\n \n\n Δ
URL:https://linss.se/event/digital-examination/
LOCATION:Klubbhuset\, Norra Oskarsgatan 51\, Linköping\, 58275\, Sverige
ATTACH;FMTTYPE=image/jpeg:https://linss.se/wp-content/uploads/2025/11/Test_sign-scaled.jpg
ORGANIZER;CN="Kultursektionen":MAILTO:kultursektionen@linss.se
END:VEVENT
BEGIN:VEVENT
DTSTART;TZID=Europe/Stockholm:20260329T160000
DTEND;TZID=Europe/Stockholm:20260329T180000
DTSTAMP:20260423T161328
CREATED:20260125T205053Z
LAST-MODIFIED:20260125T205211Z
UID:3727-1774800000-1774807200@linss.se
SUMMARY:Digital examination / provtillfälle
DESCRIPTION:Detta tillfälle kan du examineras för NFB intyg (OBS! Du ska ha anmält dig till NFB innan. Se hur man gör här.) \n\n\n\n\n\n\n\n\n  \n\n\n\nAnmälan till Provtillfälle 2026-03-26\n\nAnvänd formuläret nedan för att anmäla dig till provtillfälle 2026-03-29\n \nDitt namn*\n\n \nDin epost*\n\n \nDin mobil*\n\n \nDin klubb*\nLSS (Linköpings Segelsällskap)SSR (Segelsällskapet Roxen)LMBK (Linköpings Motorbåtsklubb)Linköpings Jolleseglarklubb (LJS)\n \nÖvriga noteringar\n\n\n \nSkriv in följande bokstäver i rutan nedanför: \n \n\n \n\n Δ
URL:https://linss.se/event/digital-examination-provtillfalle/
LOCATION:Klubbhuset\, Norra Oskarsgatan 51\, Linköping\, 58275\, Sverige
ATTACH;FMTTYPE=image/jpeg:https://linss.se/wp-content/uploads/2025/11/Test_sign-scaled.jpg
ORGANIZER;CN="Kultursektionen":MAILTO:kultursektionen@linss.se
END:VEVENT
BEGIN:VEVENT
DTSTART;TZID=Europe/Stockholm:20260418T090000
DTEND;TZID=Europe/Stockholm:20260418T150000
DTSTAMP:20260423T161328
CREATED:20260313T234519Z
LAST-MODIFIED:20260401T082814Z
UID:3828-1776502800-1776524400@linss.se
SUMMARY:DF65 Rogalins minne
DESCRIPTION:Mer information hittar ni här
URL:https://linss.se/event/df65-rogalins-minne/
END:VEVENT
BEGIN:VEVENT
DTSTART;TZID=Europe/Stockholm:20260418T120000
DTEND;TZID=Europe/Stockholm:20260418T150000
DTSTAMP:20260423T161328
CREATED:20260125T205904Z
LAST-MODIFIED:20260125T210557Z
UID:3730-1776513600-1776524400@linss.se
SUMMARY:Prylbytardag
DESCRIPTION:Idag har du chansen att gå ifrån båtfixandet inför sjösättningen och sälja\, köpa eller byta båtrelaterade prylar.
URL:https://linss.se/event/prylbytardag/
LOCATION:Klubbhuset\, Norra Oskarsgatan 51\, Linköping\, 58275\, Sverige
ATTACH;FMTTYPE=image/jpeg:https://linss.se/wp-content/uploads/2026/01/be3d24b2e7454748a3f1dcc6e1394f67-2795680275.jpg
ORGANIZER;CN="Kultursektionen":MAILTO:kultursektionen@linss.se
END:VEVENT
BEGIN:VEVENT
DTSTART;TZID=Europe/Stockholm:20260422T173000
DTEND;TZID=Europe/Stockholm:20260422T200000
DTSTAMP:20260423T161328
CREATED:20251104T212800Z
LAST-MODIFIED:20260422T151647Z
UID:3393-1776879000-1776888000@linss.se
SUMMARY:Uppdateringsutbildning för spelskötare
DESCRIPTION:Spara datumet – mer information kommer
URL:https://linss.se/event/uppdateringsutbildning-for-spelskotare/
LOCATION:Klubbhuset\, Norra Oskarsgatan 51\, Linköping\, 58275\, Sverige
ORGANIZER;CN="Kultursektionen":MAILTO:kultursektionen@linss.se
END:VEVENT
BEGIN:VEVENT
DTSTART;TZID=Europe/Stockholm:20260423T183000
DTEND;TZID=Europe/Stockholm:20260423T210000
DTSTAMP:20260423T161328
CREATED:20251104T212900Z
LAST-MODIFIED:20260111T123731Z
UID:3395-1776969000-1776978000@linss.se
SUMMARY:Informationsmöte om sjösättningen
DESCRIPTION:Spara datumet – mer information kommer
URL:https://linss.se/event/informationsmote-om-sjosattningen/
LOCATION:Klubbhuset\, Norra Oskarsgatan 51\, Linköping\, 58275\, Sverige
ATTACH;FMTTYPE=image/jpeg:https://linss.se/wp-content/uploads/2025/11/information-3379391547.jpg
ORGANIZER;CN="Kultursektionen":MAILTO:kultursektionen@linss.se
END:VEVENT
BEGIN:VEVENT
DTSTART;TZID=Europe/Stockholm:20260425T080000
DTEND;TZID=Europe/Stockholm:20260425T140000
DTSTAMP:20260423T161328
CREATED:20251104T213010Z
LAST-MODIFIED:20260111T161700Z
UID:3397-1777104000-1777125600@linss.se
SUMMARY:Sjösättning
DESCRIPTION:Spara datumet – mer information kommer
URL:https://linss.se/event/sjosattning-preliminar/
LOCATION:Klubbhuset\, Norra Oskarsgatan 51\, Linköping\, 58275\, Sverige
ATTACH;FMTTYPE=image/jpeg:https://linss.se/wp-content/uploads/2023/09/DSC_0218-scaled.jpg
ORGANIZER;CN="Kultursektionen":MAILTO:kultursektionen@linss.se
END:VEVENT
BEGIN:VEVENT
DTSTART;TZID=Europe/Stockholm:20260426T100000
DTEND;TZID=Europe/Stockholm:20260426T140000
DTSTAMP:20260423T161328
CREATED:20260331T211803Z
LAST-MODIFIED:20260331T211922Z
UID:3846-1777197600-1777212000@linss.se
SUMMARY:Städdag efter sjösättningen
DESCRIPTION:Städdag på varvet!Gör fint på din båtplats och på varvet. Märk din vagga eller vagn om du inte gjort det. Titta till din båt. Och passa på att umgås.LSS bjuder på grillad korv!Välkommen!
URL:https://linss.se/event/staddag-efter-sjosattningen/
LOCATION:Klubbhuset\, Norra Oskarsgatan 51\, Linköping\, 58275\, Sverige
ATTACH;FMTTYPE=image/jpeg:https://linss.se/wp-content/uploads/2026/03/staddag-e1555595144726-scaled-1.jpg
END:VEVENT
BEGIN:VEVENT
DTSTART;TZID=Europe/Stockholm:20260506T183000
DTEND;TZID=Europe/Stockholm:20260506T210000
DTSTAMP:20260423T161328
CREATED:20251104T213130Z
LAST-MODIFIED:20260111T123819Z
UID:3399-1778092200-1778101200@linss.se
SUMMARY:Repetition av navigation
DESCRIPTION:Spara datumet – mer information kommer
URL:https://linss.se/event/repetition-av-navigation/
LOCATION:Klubbhuset\, Norra Oskarsgatan 51\, Linköping\, 58275\, Sverige
ATTACH;FMTTYPE=image/jpeg:https://linss.se/wp-content/uploads/2023/03/kompass.jpg
ORGANIZER;CN="Kultursektionen":MAILTO:kultursektionen@linss.se
END:VEVENT
BEGIN:VEVENT
DTSTART;TZID=Europe/Stockholm:20260507T183000
DTEND;TZID=Europe/Stockholm:20260507T210000
DTSTAMP:20260423T161328
CREATED:20251104T221708Z
LAST-MODIFIED:20260111T174434Z
UID:3411-1778178600-1778187600@linss.se
SUMMARY:Repetition av VHF med förbindelseprov + preliminärt: övning med livflotte och eller nödraketer och bloss
DESCRIPTION:Den här kvällen repeterar vi VHF-kunskaper. Du kan också göra förbindelseprov med din VHF mot klubbens station.Dessutom tänker vi fortsätta på säkerhetstemat med övning med nödraketer (om vi inte riskerar att sätta eld på omgivningen) och nödbloss samt att vi utlöser en livflotte. Har du gamla raketer/bloss och livflottar som passerat sitt bäst före-datum har du chansen att öva mde dem här!
URL:https://linss.se/event/repetition-av-vhf/
LOCATION:Klubbhuset\, Norra Oskarsgatan 51\, Linköping\, 58275\, Sverige
ATTACH;FMTTYPE=image/jpeg:https://linss.se/wp-content/uploads/2025/10/Standard-horizon-gx1700-black-vhf-marine-radio-3331377394.jpg
ORGANIZER;CN="Kultursektionen":MAILTO:kultursektionen@linss.se
END:VEVENT
BEGIN:VEVENT
DTSTART;TZID=Europe/Stockholm:20260516T080000
DTEND;TZID=Europe/Stockholm:20260517T210000
DTSTAMP:20260423T161328
CREATED:20251104T213257Z
LAST-MODIFIED:20251104T220926Z
UID:3401-1778918400-1779051600@linss.se
SUMMARY:Kultursegling till Berg
DESCRIPTION:Spara datumet – mer information kommer. Dag väljs med hänsyn till väder.
URL:https://linss.se/event/repetition-vhf-forbindelseprov/
LOCATION:Klubbhuset\, Norra Oskarsgatan 51\, Linköping\, 58275\, Sverige
ATTACH;FMTTYPE=image/jpeg:https://linss.se/wp-content/uploads/2023/09/batbild.jpg
ORGANIZER;CN="Kultursektionen":MAILTO:kultursektionen@linss.se
END:VEVENT
BEGIN:VEVENT
DTSTART;TZID=Europe/Stockholm:20260919T080000
DTEND;TZID=Europe/Stockholm:20260920T210000
DTSTAMP:20260423T161328
CREATED:20251104T213557Z
LAST-MODIFIED:20251104T221557Z
UID:3405-1789804800-1789938000@linss.se
SUMMARY:Kultursegling till Berg
DESCRIPTION:Spara datumet – mer information kommer. Dag väljs med hänsyn till väder.
URL:https://linss.se/event/kultursegling-till-berg/
LOCATION:Klubbhuset\, Norra Oskarsgatan 51\, Linköping\, 58275\, Sverige
ATTACH;FMTTYPE=image/jpeg:https://linss.se/wp-content/uploads/2023/03/IMG_20220831_190928-scaled.jpg
ORGANIZER;CN="Kultursektionen":MAILTO:kultursektionen@linss.se
END:VEVENT
END:VCALENDAR