BEGIN:VCALENDAR
VERSION:2.0
PRODID:-//Linköpings Segelsällskap - ECPv6.15.20//NONSGML v1.0//EN
CALSCALE:GREGORIAN
METHOD:PUBLISH
X-ORIGINAL-URL:https://linss.se
X-WR-CALDESC:Händelser för Linköpings Segelsällskap
REFRESH-INTERVAL;VALUE=DURATION:PT1H
X-Robots-Tag:noindex
X-PUBLISHED-TTL:PT1H
BEGIN:VTIMEZONE
TZID:Europe/Stockholm
BEGIN:DAYLIGHT
TZOFFSETFROM:+0100
TZOFFSETTO:+0200
TZNAME:CEST
DTSTART:20220327T010000
END:DAYLIGHT
BEGIN:STANDARD
TZOFFSETFROM:+0200
TZOFFSETTO:+0100
TZNAME:CET
DTSTART:20221030T010000
END:STANDARD
BEGIN:DAYLIGHT
TZOFFSETFROM:+0100
TZOFFSETTO:+0200
TZNAME:CEST
DTSTART:20230326T010000
END:DAYLIGHT
BEGIN:STANDARD
TZOFFSETFROM:+0200
TZOFFSETTO:+0100
TZNAME:CET
DTSTART:20231029T010000
END:STANDARD
BEGIN:DAYLIGHT
TZOFFSETFROM:+0100
TZOFFSETTO:+0200
TZNAME:CEST
DTSTART:20240331T010000
END:DAYLIGHT
BEGIN:STANDARD
TZOFFSETFROM:+0200
TZOFFSETTO:+0100
TZNAME:CET
DTSTART:20241027T010000
END:STANDARD
END:VTIMEZONE
BEGIN:VEVENT
DTSTART;TZID=Europe/Stockholm:20231210T130000
DTEND;TZID=Europe/Stockholm:20231210T170000
DTSTAMP:20260423T125555
CREATED:20231116T160235Z
LAST-MODIFIED:20231116T160235Z
UID:2203-1702213200-1702227600@linss.se
SUMMARY:Regelkurs
DESCRIPTION:Oavsett om du är en van kappseglare som behöver fräscha upp kappseglingsreglerna eller om du är ny på området och vill ha en introduktion till hur reglerna ska tolkas\, så är du välkommen att ta del av denna regelkurs för kappsegling.\nUnder dagen kommer Tom Björkholm att gå igenom kappseglingsregler samt diskutera tolkningar av situationer som uppkommit under årets seglingar. \nTag med dig regelboken och gärna också några situationer från årets kappseglingar där du antingen är osäker på kappseglingreglerna eller tycker att det skulle vara intressant att tillsammans gå igenom reglerna. \nNär deltagarnas regelsituationer tar slut så fortsätter vi med att titta på de regler som Tom observerat att verkar vara missförstådda eller mindre kända \n  \nOm du inte har en egen kopia av reglerna så finns de på SSF hemsida att ladda ner: \nsvensksegling.se/om-oss/dokumentbanken/290-kappseglingsregler-ksr-2021-2024-svensk.pdf/ \n  \nAnmäl dig till eventet här. \n  \nVi kommer även att bjuda på lite fika under dagen. Varmt välkomna! \nLSS Seglingssektion
URL:https://linss.se/event/regelkurs-2/
ATTACH;FMTTYPE=image/jpeg:https://linss.se/wp-content/uploads/2023/11/KSR_2021-2024-scaled.jpg
END:VEVENT
END:VCALENDAR