BEGIN:VCALENDAR
VERSION:2.0
PRODID:-//Linköpings Segelsällskap - ECPv6.15.20//NONSGML v1.0//EN
CALSCALE:GREGORIAN
METHOD:PUBLISH
X-WR-CALNAME:Linköpings Segelsällskap
X-ORIGINAL-URL:https://linss.se
X-WR-CALDESC:Händelser för Linköpings Segelsällskap
REFRESH-INTERVAL;VALUE=DURATION:PT1H
X-Robots-Tag:noindex
X-PUBLISHED-TTL:PT1H
BEGIN:VTIMEZONE
TZID:Europe/Stockholm
BEGIN:DAYLIGHT
TZOFFSETFROM:+0100
TZOFFSETTO:+0200
TZNAME:CEST
DTSTART:20230326T010000
END:DAYLIGHT
BEGIN:STANDARD
TZOFFSETFROM:+0200
TZOFFSETTO:+0100
TZNAME:CET
DTSTART:20231029T010000
END:STANDARD
BEGIN:DAYLIGHT
TZOFFSETFROM:+0100
TZOFFSETTO:+0200
TZNAME:CEST
DTSTART:20240331T010000
END:DAYLIGHT
BEGIN:STANDARD
TZOFFSETFROM:+0200
TZOFFSETTO:+0100
TZNAME:CET
DTSTART:20241027T010000
END:STANDARD
BEGIN:DAYLIGHT
TZOFFSETFROM:+0100
TZOFFSETTO:+0200
TZNAME:CEST
DTSTART:20250330T010000
END:DAYLIGHT
BEGIN:STANDARD
TZOFFSETFROM:+0200
TZOFFSETTO:+0100
TZNAME:CET
DTSTART:20251026T010000
END:STANDARD
END:VTIMEZONE
BEGIN:VEVENT
DTSTART;TZID=Europe/Stockholm:20240201T183000
DTEND;TZID=Europe/Stockholm:20240201T210000
DTSTAMP:20260421T101105
CREATED:20240120T231117Z
LAST-MODIFIED:20240121T171216Z
UID:2296-1706812200-1706821200@linss.se
SUMMARY:Medlemskväll om elektricitet
DESCRIPTION:Föreningen anordnar en kväll om elektriciteten i våra båtar. \n\nInstallationer med starkström och laddning med starkström- Toivo Mielonen\nInstallationer med 12 V likström – John Österberg\nFörsök med elektrisk inombordare- Niklas Larsson\n\nModeratorer under kvällen Bo Nordenram och Pierre Nordmark \nJohn Österberg har en väldigt bra hemsida https://boatel.se/lab/boatEL/ som kan vara värt ett besök för att uppdatera sig. \nKvällen är tänkt som en möjlighet för medlemmarna att dryfta frågor mot en panel av elektriskt insatta medlemmar \nKlicka här för att anmäla dig till kvällen.\nVälkommen!
URL:https://linss.se/event/medlemskvall-om-elektricitet/
LOCATION:Klubbhuset\, Norra Oskarsgatan 51\, Linköping\, 58275\, Sverige
ATTACH;FMTTYPE=image/jpeg:https://linss.se/wp-content/uploads/2024/01/Picture1.jpg
ORGANIZER;CN="Kultursektionen":MAILTO:kultursektionen@linss.se
END:VEVENT
BEGIN:VEVENT
DTSTART;TZID=Europe/Stockholm:20240229T180000
DTEND;TZID=Europe/Stockholm:20240229T210000
DTSTAMP:20260421T101105
CREATED:20240208T150226Z
LAST-MODIFIED:20240208T150226Z
UID:2359-1709229600-1709240400@linss.se
SUMMARY:Funktionärsträff
DESCRIPTION:Funktionärsträff för nuvarande och blivande funktionärer i LSS. Mer info kommer på mejlen.
URL:https://linss.se/event/funktionarstraff/
ATTACH;FMTTYPE=image/jpeg:https://linss.se/wp-content/uploads/2023/03/IMG_20220831_190928-scaled.jpg
END:VEVENT
END:VCALENDAR